BEGIN:VCALENDAR
VERSION:2.0
PRODID:www.stappen-shoppen.nl
BEGIN:VEVENT
UID:stappen-shoppen.nl/entity/69eb427ba582c20e150a2581
DTSTAMP:20260424T144249Z
ORGANIZER;CN=:MAILTO:
DTSTART:20260427T100000Z
DTEND:20260427T150000Z
URL:https://en.bredastudentapp.com/ical/69eb427ba582c20e150a2581
SUMMARY:Geopend op Koningsdag
DESCRIPTION:Geopend op Koningsdag van 12.00 uur tot 17.00 uur
END:VEVENT
END:VCALENDAR

