BEGIN:VCALENDAR
VERSION:2.0
PRODID:www.stappen-shoppen.nl
BEGIN:VEVENT
UID:stappen-shoppen.nl/entity/69ea08c817174bd9ea092dfe
DTSTAMP:20260423T211051Z
ORGANIZER;CN=:MAILTO:info@mezz.nl
DTSTART:20261023T190000Z
DTEND:20261024T000000Z
URL:https://en.bredastudentapp.com/ical/69ea08c817174bd9ea092dfe
SUMMARY:90's Now in MEZZ
DESCRIPTION:90's Now brengt je terug naar de tijd dat écht alles kon.
END:VEVENT
END:VCALENDAR

