BEGIN:VCALENDAR
VERSION:2.0
PRODID:www.stappen-shoppen.nl
BEGIN:VEVENT
UID:stappen-shoppen.nl/entity/69e8e34a6c9c10700c001e95
DTSTAMP:20260422T221657Z
ORGANIZER;CN=:MAILTO:info@hethoutsemeer.nl
DTSTART:20260427T093000Z
DTEND:20260427T150000Z
URL:https://en.bredastudentapp.com/ical/69e8e34a6c9c10700c001e95
SUMMARY:Koningsdag aan het water!
DESCRIPTION:Op maandag 27 april is Het Houtse Meer geopend voor een ontspannen lunch tijdens Koningsdag. Even weg van de drukte en genieten van goed eten aan het water.
END:VEVENT
END:VCALENDAR

