BEGIN:VCALENDAR
VERSION:2.0
PRODID:www.stappen-shoppen.nl
BEGIN:VEVENT
UID:stappen-shoppen.nl/entity/69e8e2549d932f046409c834
DTSTAMP:20260423T010715Z
ORGANIZER;CN=:MAILTO:info@dehouthallen.nl
DTSTART:20260517T130000Z
DTEND:20260517T160000Z
URL:https://en.bredastudentapp.com/ical/69e8e2549d932f046409c834
SUMMARY:Only on Sunday: The 45 prince!
DESCRIPTION:Op zondag 17 mei staat De Houthallen in het teken van pure vinyl vibes. DJ The 45 Prince draait een bijzondere selectie van 45 toeren plaatjes\, aangevuld met andere mooie vinylformats.
END:VEVENT
END:VCALENDAR

