BEGIN:VCALENDAR
VERSION:2.0
PRODID:www.stappen-shoppen.nl
BEGIN:VEVENT
UID:stappen-shoppen.nl/entity/69e8dd4665be5667300f5cef
DTSTAMP:20260422T221658Z
ORGANIZER;CN=:MAILTO:info@dehouthallen.nl
DTSTART:20260426T130000Z
DTEND:20260426T160000Z
URL:https://en.bredastudentapp.com/ical/69e8dd4665be5667300f5cef
SUMMARY:Only on Sunday: Sweet tones!
DESCRIPTION:Op zondag 26 april staat De Houthallen in het teken van een ontspannen middag live muziek. Het duo Sweet Tones\, bestaande uit Wilma en Frans\, brengt een sfeervolle akoestische set met een mix van bekende nummers.
END:VEVENT
END:VCALENDAR

