BEGIN:VCALENDAR
VERSION:2.0
PRODID:www.stappen-shoppen.nl
BEGIN:VEVENT
UID:stappen-shoppen.nl/entity/69e87b85937a832c0503aba0
DTSTAMP:20260423T064436Z
ORGANIZER;CN=:MAILTO:marketing@vandervalkbreda.com
DTSTART:20261011T090000Z
DTEND:20261011T120000Z
URL:https://en.bredastudentapp.com/ical/69e87b85937a832c0503aba0
SUMMARY:Pink Brunch | in actie voor Pink Ribbon
DESCRIPTION:Pink Brunch | in actie voor Pink Ribbon
END:VEVENT
END:VCALENDAR

