BEGIN:VCALENDAR
VERSION:2.0
PRODID:www.stappen-shoppen.nl
BEGIN:VEVENT
UID:stappen-shoppen.nl/entity/69e82e0014667318e267e155
DTSTAMP:20260422T232802Z
ORGANIZER;CN=:MAILTO:info@denobelaer.nl 
DTSTART:20260512T173000Z
DTEND:20260512T183000Z
URL:https://en.bredastudentapp.com/ical/69e82e0014667318e267e155
SUMMARY:K-Pop danslessen
DESCRIPTION:Altijd al willen dansen zoals je favoriete K-popidolen? Dit is je kans! In deze leuke en energieke lessenreeks maak je kennis met K-pop. We leren twee choreografieën van bekende K-popgroepen. Of je nu al danservaring hebt of gewoon graag beweegt: iedereen…
END:VEVENT
END:VCALENDAR

