BEGIN:VCALENDAR
VERSION:2.0
PRODID:www.stappen-shoppen.nl
BEGIN:VEVENT
UID:stappen-shoppen.nl/entity/69e82dff14667318e267e0be
DTSTAMP:20260422T232706Z
ORGANIZER;CN=:MAILTO:info@denobelaer.nl 
DTSTART:20260509T090000Z
DTEND:20260509T110000Z
URL:https://en.bredastudentapp.com/ical/69e82dff14667318e267e0be
SUMMARY:Opening Expositie De Nieuwe Vincenten
DESCRIPTION:De afgelopen maanden hebben de deelnemers van talententraject De Nieuwe Vincent 2025 hard gewerkt aan hun portfolio. Op zaterdag 9 mei is de opening van hun eindexpositie. De jongeren kijken ernaar uit om het publiek kennis te laten maken met hun talent.D…
END:VEVENT
END:VCALENDAR

