BEGIN:VCALENDAR
VERSION:2.0
PRODID:www.stappen-shoppen.nl
BEGIN:VEVENT
UID:stappen-shoppen.nl/entity/69e74d57881faab07d09a6a4
DTSTAMP:20260422T232814Z
ORGANIZER;CN=:MAILTO:
DTSTART:20260725T173000Z
DTEND:20260725T210000Z
URL:https://en.bredastudentapp.com/ical/69e74d57881faab07d09a6a4
SUMMARY:Emma Nissen
DESCRIPTION:Emma Nissen in MEZZ
END:VEVENT
END:VCALENDAR

