BEGIN:VCALENDAR
VERSION:2.0
PRODID:www.stappen-shoppen.nl
BEGIN:VEVENT
UID:stappen-shoppen.nl/entity/69e618ef19c4a57ecf042307
DTSTAMP:20260421T152756Z
ORGANIZER;CN=:MAILTO:vera@versicleancare.com
DTSTART:20260502T080000Z
DTEND:20260510T150000Z
URL:https://en.bredastudentapp.com/ical/69e618ef19c4a57ecf042307
SUMMARY:Pop-up store Versi Clean Care bij Studio& 
DESCRIPTION:Pop up: 2 t/m 10 mei Versi Clean Care bij Studio& in hartje Breda! Versi ontwikkelt innovatieve\, geconcentreerde powder-to-foam formules die volledig clean zijn geformuleerd. De producten zijn effectief én zacht voor de huid\, en dankzij het compacte\, lichtgewicht formaat ideaal voor op reis. Extra bijzonder: de Nourishing Face Cleanser en Revitalising Face Exfoliant zijn onlangs genomineerd voor de Dutch Beauty Award 2025/2026
END:VEVENT
END:VCALENDAR

