BEGIN:VCALENDAR
VERSION:2.0
PRODID:www.stappen-shoppen.nl
BEGIN:VEVENT
UID:stappen-shoppen.nl/entity/69b0257d2f53c233e70b8f08
DTSTAMP:20260423T191616Z
ORGANIZER;CN=:MAILTO:info@pier15.nl
DTSTART:20260530T110000Z
DTEND:20260530T210000Z
URL:https://en.bredastudentapp.com/ical/69b0257d2f53c233e70b8f08
SUMMARY:Hygge Festival Pier15
DESCRIPTION:Dé festival seizoensopener op het Pier15 terrein!
END:VEVENT
END:VCALENDAR

