BEGIN:VCALENDAR
VERSION:2.0
PRODID:www.stappen-shoppen.nl
BEGIN:VEVENT
UID:stappen-shoppen.nl/entity/69aab34a8da9d38a4008f9b6
DTSTAMP:20260420T022805Z
ORGANIZER;CN=:MAILTO:info@mezz.nl
DTSTART:20260530T173000Z
DTEND:20260530T210000Z
URL:https://en.bredastudentapp.com/ical/69aab34a8da9d38a4008f9b6
SUMMARY:Black Flower in MEZZ
DESCRIPTION:Een mix van van Ethio-jazz\, afrobeat en dub.
END:VEVENT
END:VCALENDAR

