BEGIN:VCALENDAR
VERSION:2.0
PRODID:www.stappen-shoppen.nl
BEGIN:VEVENT
UID:stappen-shoppen.nl/entity/69a6b126018fbaa71b046a5b
DTSTAMP:20260420T022546Z
ORGANIZER;CN=:MAILTO:
DTSTART:20261028T183000Z
DTEND:20261028T220000Z
URL:https://en.bredastudentapp.com/ical/69a6b126018fbaa71b046a5b
SUMMARY:Dan Owen
DESCRIPTION:Dan Owen in MEZZ
END:VEVENT
END:VCALENDAR

