BEGIN:VCALENDAR
VERSION:2.0
PRODID:www.stappen-shoppen.nl
BEGIN:VEVENT
UID:stappen-shoppen.nl/entity/69789770a6ebc8cc140c2383
DTSTAMP:20260420T022712Z
ORGANIZER;CN=:MAILTO:info@mezz.nl
DTSTART:20261017T080000Z
DTEND:20261018T020000Z
URL:https://en.bredastudentapp.com/ical/69789770a6ebc8cc140c2383
SUMMARY:Paul Elstak in MEZZ
DESCRIPTION:Dutch hardcore legend Paul Elstak is set to ignite MEZZ!
END:VEVENT
END:VCALENDAR

