BEGIN:VCALENDAR
VERSION:2.0
PRODID:www.stappen-shoppen.nl
BEGIN:VEVENT
UID:stappen-shoppen.nl/entity/69789682f7156c30820a088d
DTSTAMP:20260420T022712Z
ORGANIZER;CN=:MAILTO:info@mezz.nl
DTSTART:20260529T210000Z
DTEND:20260530T040000Z
URL:https://en.bredastudentapp.com/ical/69789682f7156c30820a088d
SUMMARY:TRIBE 10 Year Anniversary in MEZZ
DESCRIPTION:Let’s celebrate 10 Years of TRIBE together at MEZZ!
END:VEVENT
END:VCALENDAR

