BEGIN:VCALENDAR
VERSION:2.0
PRODID:www.stappen-shoppen.nl
BEGIN:VEVENT
UID:stappen-shoppen.nl/entity/69787e1835874c272709f4d9
DTSTAMP:20260420T022752Z
ORGANIZER;CN=:MAILTO:info@mezz.nl
DTSTART:20260508T173000Z
DTEND:20260508T210000Z
URL:https://en.bredastudentapp.com/ical/69787e1835874c272709f4d9
SUMMARY:Bureau De Change in MEZZ
DESCRIPTION:Vervormde gitaarriffs en harde drums met humoristische teksten over alledaagse frustraties.
END:VEVENT
END:VCALENDAR

