BEGIN:VCALENDAR
VERSION:2.0
PRODID:www.stappen-shoppen.nl
BEGIN:VEVENT
UID:stappen-shoppen.nl/entity/695d008525a10cd82807fecc
DTSTAMP:20260421T102417Z
ORGANIZER;CN=:MAILTO:
DTSTART:20260213T181100Z
DTEND:20260213T225900Z
URL:https://en.bredastudentapp.com/ical/695d008525a10cd82807fecc
SUMMARY:Stuiterbal
DESCRIPTION:Stuiterbal is hét carnavalsfeest voor middelbare scholieren tot en met 17 jaar. In Mezz organiseren we op vrijdag 13 februari om 20:11 een gruwelijk knallende line-up. 
END:VEVENT
END:VCALENDAR

