BEGIN:VCALENDAR
VERSION:2.0
PRODID:www.stappen-shoppen.nl
BEGIN:VEVENT
UID:stappen-shoppen.nl/entity/693c03cb39a8e4757002cbeb
DTSTAMP:20260420T022357Z
ORGANIZER;CN=:MAILTO:
DTSTART:20260619T180000Z
DTEND:20260619T210000Z
URL:https://en.bredastudentapp.com/ical/693c03cb39a8e4757002cbeb
SUMMARY:The Exploited
DESCRIPTION:The Exploited in MEZZ
END:VEVENT
END:VCALENDAR

