BEGIN:VCALENDAR
VERSION:2.0
PRODID:www.stappen-shoppen.nl
BEGIN:VEVENT
UID:stappen-shoppen.nl/entity/68e4da396885c0d0900da6ab
DTSTAMP:20260423T083119Z
ORGANIZER;CN=:MAILTO:info@mezz.nl
DTSTART:20261024T173000Z
DTEND:20261024T210000Z
URL:https://en.bredastudentapp.com/ical/68e4da396885c0d0900da6ab
SUMMARY:Drukwerk in MEZZ
DESCRIPTION:Nederpopband bekend van hun hits 'Je Loog Tegen Mij' en 'Schijn 'n Lichtje Op Mij'.
END:VEVENT
END:VCALENDAR

