BEGIN:VCALENDAR
VERSION:2.0
PRODID:www.stappen-shoppen.nl
BEGIN:VEVENT
UID:stappen-shoppen.nl/entity/6877945e496956bdad0256a2
DTSTAMP:20260420T202234Z
ORGANIZER;CN=:MAILTO:
DTSTART:20250824T110000Z
DTEND:20250824T131500Z
URL:https://en.bredastudentapp.com/ical/6877945e496956bdad0256a2
SUMMARY:Tea & Tunes – High Tea | Gavin Reijnders
DESCRIPTION:Laat je verrassen door Tea & Tunes\, de ultieme combinatie van high tea’en en wisselende artiesten met live zang\, comedy en meer! Van intieme akoestische sets tot dubbel liggen van het lachen\, elke editie van Tea & Tunes brengt een unieke beleving. Of je nu komt voor de gezelligheid\, de culinaire verwennerij of de inspirerende optredens\, Tea & Tunes maakt jouw zondag extra bijzonder. Reserveer snel je plek en beleef het zelf! 
END:VEVENT
END:VCALENDAR

